BEGIN:VCALENDAR
VERSION:2.0
PRODID:-//IDAHOBIT - ECPv6.15.20//NONSGML v1.0//EN
CALSCALE:GREGORIAN
METHOD:PUBLISH
X-ORIGINAL-URL:https://may17.org
X-WR-CALDESC:Events for IDAHOBIT
REFRESH-INTERVAL;VALUE=DURATION:PT1H
X-Robots-Tag:noindex
X-PUBLISHED-TTL:PT1H
BEGIN:VTIMEZONE
TZID:Australia/Melbourne
BEGIN:STANDARD
TZOFFSETFROM:+1100
TZOFFSETTO:+1000
TZNAME:AEST
DTSTART:20240406T160000
END:STANDARD
BEGIN:DAYLIGHT
TZOFFSETFROM:+1000
TZOFFSETTO:+1100
TZNAME:AEDT
DTSTART:20241005T160000
END:DAYLIGHT
BEGIN:STANDARD
TZOFFSETFROM:+1100
TZOFFSETTO:+1000
TZNAME:AEST
DTSTART:20250405T160000
END:STANDARD
BEGIN:DAYLIGHT
TZOFFSETFROM:+1000
TZOFFSETTO:+1100
TZNAME:AEDT
DTSTART:20251004T160000
END:DAYLIGHT
BEGIN:STANDARD
TZOFFSETFROM:+1100
TZOFFSETTO:+1000
TZNAME:AEST
DTSTART:20260404T160000
END:STANDARD
BEGIN:DAYLIGHT
TZOFFSETFROM:+1000
TZOFFSETTO:+1100
TZNAME:AEDT
DTSTART:20261003T160000
END:DAYLIGHT
END:VTIMEZONE
BEGIN:VTIMEZONE
TZID:America/Jamaica
BEGIN:STANDARD
TZOFFSETFROM:-0500
TZOFFSETTO:-0500
TZNAME:EST
DTSTART:20240101T000000
END:STANDARD
END:VTIMEZONE
BEGIN:VTIMEZONE
TZID:Europe/Berlin
BEGIN:DAYLIGHT
TZOFFSETFROM:+0100
TZOFFSETTO:+0200
TZNAME:CEST
DTSTART:20240331T010000
END:DAYLIGHT
BEGIN:STANDARD
TZOFFSETFROM:+0200
TZOFFSETTO:+0100
TZNAME:CET
DTSTART:20241027T010000
END:STANDARD
BEGIN:DAYLIGHT
TZOFFSETFROM:+0100
TZOFFSETTO:+0200
TZNAME:CEST
DTSTART:20250330T010000
END:DAYLIGHT
BEGIN:STANDARD
TZOFFSETFROM:+0200
TZOFFSETTO:+0100
TZNAME:CET
DTSTART:20251026T010000
END:STANDARD
BEGIN:DAYLIGHT
TZOFFSETFROM:+0100
TZOFFSETTO:+0200
TZNAME:CEST
DTSTART:20260329T010000
END:DAYLIGHT
BEGIN:STANDARD
TZOFFSETFROM:+0200
TZOFFSETTO:+0100
TZNAME:CET
DTSTART:20261025T010000
END:STANDARD
END:VTIMEZONE
BEGIN:VTIMEZONE
TZID:Africa/Cairo
BEGIN:DAYLIGHT
TZOFFSETFROM:+0200
TZOFFSETTO:+0300
TZNAME:EEST
DTSTART:20240425T220000
END:DAYLIGHT
BEGIN:STANDARD
TZOFFSETFROM:+0300
TZOFFSETTO:+0200
TZNAME:EET
DTSTART:20241031T210000
END:STANDARD
BEGIN:DAYLIGHT
TZOFFSETFROM:+0200
TZOFFSETTO:+0300
TZNAME:EEST
DTSTART:20250424T220000
END:DAYLIGHT
BEGIN:STANDARD
TZOFFSETFROM:+0300
TZOFFSETTO:+0200
TZNAME:EET
DTSTART:20251030T210000
END:STANDARD
BEGIN:DAYLIGHT
TZOFFSETFROM:+0200
TZOFFSETTO:+0300
TZNAME:EEST
DTSTART:20260423T220000
END:DAYLIGHT
BEGIN:STANDARD
TZOFFSETFROM:+0300
TZOFFSETTO:+0200
TZNAME:EET
DTSTART:20261029T210000
END:STANDARD
END:VTIMEZONE
BEGIN:VTIMEZONE
TZID:America/Guayaquil
BEGIN:STANDARD
TZOFFSETFROM:-0500
TZOFFSETTO:-0500
TZNAME:-05
DTSTART:20240101T000000
END:STANDARD
END:VTIMEZONE
BEGIN:VEVENT
DTSTART;VALUE=DATE:20250512
DTEND;VALUE=DATE:20250520
DTSTAMP:20260426T034422
CREATED:20250516T120730Z
LAST-MODIFIED:20250516T120730Z
UID:10000107-1747008000-1747699199@may17.org
SUMMARY:IDAHOBIT 2025 – Window Display Competition Entry Macedon Ranges
DESCRIPTION:We’re proud to take part in Sunbury and Cobaw Community Health’s IDAHOBIT Window Display Competition\, standing in solidarity with LGBTQIA+ communities across the Macedon Ranges and beyond. \nIDAHOBIT—the International Day Against Homophobia\, Biphobia\, Intersex Discrimination and Transphobia—is held every year on May 17. It’s a day to raise awareness\, spark conversations\, and take a stand against discrimination in all its forms. Now also known as the Day Against LGBTQIA+ Discrimination\, it affirms the importance of inclusion for lesbian\, gay\, bisexual\, transgender\, intersex\, queer\, asexual and other diverse identities. \nAt HMS Community\, we’re committed to:\n🟣 Welcoming people of all genders\, sexual orientations\, backgrounds\, and abilities.\n🟣 Partnering with LGBTI+ organisations to ensure respectful and informed support.\n🟣 Promoting inclusive care through policy\, practice\, and lived experience—including within our leadership. \nOur display is a public commitment to equity\, inclusion\, and dignity for all. \nThanks to Sunbury and Cobaw Community Health for creating space to celebrate visibility and allyship in our region.
URL:https://may17.org/event/idahobit-2025-window-display-competition-entry-macedon-ranges/
LOCATION:HMS Community\, 2/18\, Gisborne\, VIC\, 3071\, Australia
CATEGORIES:Awareness activity,Art or creative expression
ATTACH;FMTTYPE=image/jpeg:https://may17.org/wp-content/uploads/2025/05/11.jpg
ORGANIZER;CN="HMS Community":MAILTO:info@hmscommunity.org.au
GEO:-37.7600493;145.0080039
X-APPLE-STRUCTURED-LOCATION;VALUE=URI;X-ADDRESS=HMS Community 2/18 Gisborne VIC 3071 Australia;X-APPLE-RADIUS=500;X-TITLE=2/18:geo:145.0080039,-37.7600493
END:VEVENT
BEGIN:VEVENT
DTSTART;TZID=America/Jamaica:20250513T080000
DTEND;TZID=America/Jamaica:20250530T170000
DTSTAMP:20260426T034422
CREATED:20250519T053049Z
LAST-MODIFIED:20250519T053644Z
UID:10000137-1747123200-1748624400@may17.org
SUMMARY:Equality Jamaica - IDAHOT 2025 Essay Competition
DESCRIPTION:The IDAHOT 2025 Essay Competition is an event organized by Equality for All\, inviting Jamaicans over 18 to submit essays addressing barriers to inclusion in education and the workplace for LGBTQ+ individuals. The competition is open to all Jamaicans aged 18 and above\, with essays required to be between 1\,500-2\,000 words\, informed by the 2023 Social and Institutional Barriers to Inclusion Research by IDEA Research Centre. The deadline for submissions is Friday\, May 30\, 2025\, at 5 pm\, with prizes ranging from $20\,000 to $50\,000 for the top three entries.
URL:https://may17.org/event/2025-equality-jamaica-idahot-2025-essay-competition/
LOCATION:Jamaica\, Kingston\, Jamaica
CATEGORIES:Art or creative expression
ATTACH;FMTTYPE=image/png:https://may17.org/wp-content/uploads/2025/05/IDAHOT-2025-Essay-Competition.png
ORGANIZER;CN="Equality for All Foundation Jamaica Limited":MAILTO:admin@equalityjamaica.org
GEO:18.0178743;-76.8099041
END:VEVENT
BEGIN:VEVENT
DTSTART;TZID=Europe/Berlin:20250517T100000
DTEND;TZID=Europe/Berlin:20250531T170000
DTSTAMP:20260426T034422
CREATED:20250514T124429Z
LAST-MODIFIED:20250514T124429Z
UID:10000070-1747476000-1748710800@may17.org
SUMMARY:Info campaign: We already know each other
DESCRIPTION:Informational campaign in Ukraine. “We Already Know Each Other” is a campaign about the LGBT+ people who are already part of our lives — friends\, neighbors\, colleagues. It explains how to support them in everyday situations: at work\, in school\, or during casual conversations. The campaign sheds light on what coming out means and why not everyone can do it safely. It helps recognize everyday homophobia\, understand how jokes can hurt\, and why equality needs public support\, not just private acceptance. By fostering empathy and awareness\, the campaign encourages everyone to be active allies and create a more inclusive and respectful society.
URL:https://may17.org/event/2025-info-campaign-we-already-know-each-other/
LOCATION:Ukraine\, Ukraine
CATEGORIES:Media or campaign
ATTACH;FMTTYPE=image/png:https://may17.org/wp-content/uploads/2025/05/IMG_5056.png
GEO:48.379433;31.16558
END:VEVENT
BEGIN:VEVENT
DTSTART;TZID=Africa/Cairo:20250517T120000
DTEND;TZID=Africa/Cairo:20250630T170000
DTSTAMP:20260426T034422
CREATED:20250512T143056Z
LAST-MODIFIED:20250512T143056Z
UID:10000036-1747483200-1751302800@may17.org
SUMMARY:Communion
DESCRIPTION:Communion or Queer Communion is a project dedicated to remembering and celebrating the lives of marginalised queer people who were murdered for living as themselves. The project is a rejection of the attempts to dismiss\, defile or simply erase LGBTQIA+ people. It started from a need to process on a personal level the emotional impact of news reports of hate crime murders that became increasingly frequent during the Covid pandemic. It has continued in part because of the engagement of those in the community who have reacted positively and encouraged me to continue. \nI believe that hate crime and the manner in which authority and society respond to it act to create an environment of fear\, as well as the sense that LGBTQIA+ lives are disposable and shameful. In spite of this queer people continue to live openly in defiance of attempts to control or police them into compliance. The works are meant to celebrate the simultaneously incandescent and ordinary lives that have been lost\, as well as mourning\, they also are a refusal of the tendency to place the inflicted pain\, death and violence at the centre of how we remember them.  \nThe project is also about visibility\, asking us who is deserving of commemoration and who we are content to erase\, sweep under the carpet. Many of these were create using photographs that were blurry or overly cropped\, and in some sense the accessibilty of photographs has dictated the choice of portraits.  \nThe project consists of a series of portraits that evoke a sense of the sacred through references to spiritual iconography to create spaces for contemplation and stillness. There are currently three forms of the project that are ongoing.  \nAn installation consisting of a 14 sided metal framework that holds 13 portraits that are hand painted on cast acrylic sheeting and act in a similar way to stained glass windows\, was first exhibited at the Spier Light Art Festival in 2021\, and later at the Kopano gathering.  This installation included portaits of Nonhlanhla Kunene; Sphamandla Khoza; Motshidi Pascalina (Pasca); Kirvan Fortuin; Sam Mbatha; Buhle Poswa; Lindokuhle Mapu; Nare Mphela; Bonang Gaelae; Lonwabo Jack; Phelokazi Mqathana; Lindokuhle Cele; Liyabona Mabishi. \nA series of watercolour paintings on paper that aim to act as a commemorative archive. The watercolour paintings allow for a more responsive archive and will continue to evolve and grow in response to the environment as much as is possible.
URL:https://may17.org/event/2025-communion/
LOCATION:Seth Deacon Art Studios\, 66 Albert Road\, Woodstock\, Cape Town\, Western Cape\, 7925\, South Africa
CATEGORIES:Community gathering,Awareness activity,Art or creative expression
ATTACH;FMTTYPE=image/jpeg:https://may17.org/wp-content/uploads/2025/05/Communion-ad1.jpg
GEO:-33.926683;18.446006
X-APPLE-STRUCTURED-LOCATION;VALUE=URI;X-ADDRESS=Seth Deacon Art Studios 66 Albert Road Woodstock Cape Town Western Cape 7925 South Africa;X-APPLE-RADIUS=500;X-TITLE=66 Albert Road\, Woodstock:geo:18.446006,-33.926683
END:VEVENT
BEGIN:VEVENT
DTSTART;TZID=America/Guayaquil:20250519T150000
DTEND;TZID=America/Guayaquil:20250519T170000
DTSTAMP:20260426T034422
CREATED:20250514T153751Z
LAST-MODIFIED:20250514T154013Z
UID:10000082-1747666800-1747674000@may17.org
SUMMARY:Socialización de la investigación “Ciudadanía y Cultura”
DESCRIPTION:Frente a la tortura\, alzamos la voz con datos\, memoria y acción colectiva. \nEn el marco del Día Internacional contra la Homofobia\, Lesbofobia\, Transfobia y Bifobia (IDAHOBIT)\, Fundación Mujer & Mujer y el Ministerio de la Mujer y Derechos Humanos\, con el apoyo de Outright International\, les invitan al evento de socialización de la investigación “Ciudadanía y Cultura: Prácticas de conversión sexual\, su relación con la violencia basada en género\, formas de tortura y vulneración de derechos humanos en Ecuador.” \nEste espacio tiene como objetivo visibilizar las prácticas de conversión sexual que siguen ocurriendo en Ecuador\, así como su relación con la violencia basada en género\, las formas de tortura y la vulneración de los derechos humanos de personas LGBTIQ+. \nLa jornada será también una oportunidad para compartir hallazgos clave\, construir memoria colectiva y reafirmar el compromiso de las instituciones\, organizaciones y activismos para erradicar estas prácticas\, desde una mirada de derechos\, interseccional y con justicia. \n📅 Lunes 19 de mayo de 2025\n🕓 15h00 a 17h00 (hora Ecuador)\n📍 Gobernación del Guayas – Salón Simón Bolívar \nConfirmación de asistencia: 0939141902
URL:https://may17.org/event/2025-socializacion-de-la-investigacion/
LOCATION:Gobernación del Guayas\, Malecón y Aguirre\, Guayaquil\, Guayas\, 090307\, Ecuador
CATEGORIES:Awareness activity
ATTACH;FMTTYPE=image/png:https://may17.org/wp-content/uploads/2025/05/SocializacionInvitacion-redes.png
ORGANIZER;CN="Fundaci%C3%B3n Mujer & Mujer":MAILTO:mujerymujerec@gmail.com
GEO:-2.1907578;-79.8955564
X-APPLE-STRUCTURED-LOCATION;VALUE=URI;X-ADDRESS=Gobernación del Guayas Malecón y Aguirre Guayaquil Guayas 090307 Ecuador;X-APPLE-RADIUS=500;X-TITLE=Malecón y Aguirre:geo:-79.8955564,-2.1907578
END:VEVENT
END:VCALENDAR